BEGIN:VCALENDAR
VERSION:2.0
PRODID:-//Hydrogen Scotland - ECPv6.15.18//NONSGML v1.0//EN
CALSCALE:GREGORIAN
METHOD:PUBLISH
X-WR-CALNAME:Hydrogen Scotland
X-ORIGINAL-URL:https://www.hydrogenscotland.com
X-WR-CALDESC:Events for Hydrogen Scotland
REFRESH-INTERVAL;VALUE=DURATION:PT1H
X-Robots-Tag:noindex
X-PUBLISHED-TTL:PT1H
BEGIN:VTIMEZONE
TZID:Europe/London
BEGIN:DAYLIGHT
TZOFFSETFROM:+0000
TZOFFSETTO:+0100
TZNAME:BST
DTSTART:20240331T010000
END:DAYLIGHT
BEGIN:STANDARD
TZOFFSETFROM:+0100
TZOFFSETTO:+0000
TZNAME:GMT
DTSTART:20241027T010000
END:STANDARD
BEGIN:DAYLIGHT
TZOFFSETFROM:+0000
TZOFFSETTO:+0100
TZNAME:BST
DTSTART:20250330T010000
END:DAYLIGHT
BEGIN:STANDARD
TZOFFSETFROM:+0100
TZOFFSETTO:+0000
TZNAME:GMT
DTSTART:20251026T010000
END:STANDARD
BEGIN:DAYLIGHT
TZOFFSETFROM:+0000
TZOFFSETTO:+0100
TZNAME:BST
DTSTART:20260329T010000
END:DAYLIGHT
BEGIN:STANDARD
TZOFFSETFROM:+0100
TZOFFSETTO:+0000
TZNAME:GMT
DTSTART:20261025T010000
END:STANDARD
END:VTIMEZONE
BEGIN:VEVENT
DTSTART;TZID=Europe/London:20250331T090000
DTEND;TZID=Europe/London:20250404T170000
DTSTAMP:20260421T123636
CREATED:20241105T161415Z
LAST-MODIFIED:20241119T142340Z
UID:3105-1743411600-1743786000@www.hydrogenscotland.com
SUMMARY:Hannover Messe H2FC Fair
DESCRIPTION:Shaping the future with technology\n\n\n\nHANNOVER MESSE 2025\, scheduled for March 31 – April 4 in Hannover\, Germany\, will feature a global platform focused on industrial technology advancements. Key areas include automation\, artificial intelligence\, energy solutions\, and hydrogen. This year’s event will highlight Canada as the official partner country\, showcasing innovations and collaboration opportunities. Notable segments include the Industrial AI Conference\, masterclasses\, and the prestigious HERMES Award. \n\n\n\nFor more Information: https://www.hannovermesse.de/en/
URL:https://www.hydrogenscotland.com/event/hannover-messe-h2fc-fair/
CATEGORIES:Other Events
ATTACH;FMTTYPE=image/png:https://www.hydrogenscotland.com/wp-content/uploads/2024/11/HM25_H2FC_Post_QF_gen-1200-x-630-1.png
END:VEVENT
BEGIN:VEVENT
DTSTART;TZID=Europe/London:20250401T090000
DTEND;TZID=Europe/London:20250402T170000
DTSTAMP:20260421T123636
CREATED:20241105T162847Z
LAST-MODIFIED:20250304T121514Z
UID:3113-1743498000-1743613200@www.hydrogenscotland.com
SUMMARY:Hydrogen UK Conference
DESCRIPTION:The UK’s Largest Dedicated Hydrogen Event \n\n\n\nThe Hydrogen UK Annual Conference and Awards 2025 will take place in Birmingham on April 2. This significant event is the largest dedicated hydrogen gathering in the UK\, featuring keynotes\, panel discussions\, and networking opportunities aimed at advancing hydrogen development and collaboration across various sectors. Attendees can expect insights from industry leaders and recognition of outstanding contributions to the hydrogen sector during the awards ceremony. \n\n\n\nAs friends of the conference\, Hydrogen Scotland members can enjoy a 15% discount on tickets. Reach out to us at info@hydrogenscotland.com for the code or refer to your latest member update! \n\n\n\nFor more Information on the conference\, please visit: https://hydrogen-uk.org/events/annual-conference-and-awards/
URL:https://www.hydrogenscotland.com/event/hydrogen-uk-conference/
CATEGORIES:Other Events
ATTACH;FMTTYPE=image/png:https://www.hydrogenscotland.com/wp-content/uploads/2024/11/3RD-EDITION-OF-THE-MONACO-HYDROGEN-FORUM-18-1.png
END:VEVENT
BEGIN:VEVENT
DTSTART;TZID=Europe/London:20250409T100000
DTEND;TZID=Europe/London:20250409T160000
DTSTAMP:20260421T123636
CREATED:20250403T121234Z
LAST-MODIFIED:20250403T122143Z
UID:3583-1744192800-1744214400@www.hydrogenscotland.com
SUMMARY:Funding Opportunities for Green Hydrogen & Maritime Decarbonisation
DESCRIPTION:This free to attend in-person event will introduce two funding opportunities with the European Space Agency (ESA) designed to accelerate innovation in sustainable energy and maritime decarbonisation:\n\n\n\n1. Green Hydrogen as a Sustainable Energy Source \n\n\n\nESA’s Green Hydrogen funding opportunity is designed to support innovative projects that harness space technologies to improve the production\, distribution\, or utilisation of green hydrogen. This initiative aims to unlock creative solutions that accelerate the development of hydrogen as a clean and scalable energy source. Learn more about how your business can contribute to a sustainable future with support from ESA. Read more here: https://business.esa.int/funding/open-competition/green-hydrogen-sustainable-energy-source \n\n\n\n2. Maritime Decarbonisation with Green Fuels \n\n\n\nThe maritime sector faces significant challenges in reducing emissions\, and ESA is supporting solutions that promote the adoption of green fuels. This funding opportunity invites projects that leverage satellite data\, Earth observation\, and other space technologies to enhance efficiencies and reduce the environmental impact of maritime activities. Read more here: https://business.esa.int/funding/call-for-proposals-non-competitive/maritime-decarbonisation-green-fuels \n\n\n\nThis event is ideal for businesses\, innovators\, researchers\, and project leaders working in the energy\, maritime\, or environmental sectors who are interested in exploring how space-enabled solutions can drive innovation and sustainability. \n\n\n\nLearn more and register here: https://www.eventbrite.co.uk/e/unlock-funding-opportunities-for-green-hydrogen-maritime-decarbonisation-tickets-1279339742609
URL:https://www.hydrogenscotland.com/event/funding-opportunities-for-green-hydrogen-maritime-decarbonisation/
CATEGORIES:Other Events
ATTACH;FMTTYPE=image/png:https://www.hydrogenscotland.com/wp-content/uploads/2025/04/ESA-1.png
END:VEVENT
END:VCALENDAR