BEGIN:VCALENDAR
VERSION:2.0
PRODID:-//Hydrogen Scotland - ECPv6.15.18//NONSGML v1.0//EN
CALSCALE:GREGORIAN
METHOD:PUBLISH
X-ORIGINAL-URL:https://www.hydrogenscotland.com
X-WR-CALDESC:Events for Hydrogen Scotland
REFRESH-INTERVAL;VALUE=DURATION:PT1H
X-Robots-Tag:noindex
X-PUBLISHED-TTL:PT1H
BEGIN:VTIMEZONE
TZID:Europe/London
BEGIN:DAYLIGHT
TZOFFSETFROM:+0000
TZOFFSETTO:+0100
TZNAME:BST
DTSTART:20240331T010000
END:DAYLIGHT
BEGIN:STANDARD
TZOFFSETFROM:+0100
TZOFFSETTO:+0000
TZNAME:GMT
DTSTART:20241027T010000
END:STANDARD
BEGIN:DAYLIGHT
TZOFFSETFROM:+0000
TZOFFSETTO:+0100
TZNAME:BST
DTSTART:20250330T010000
END:DAYLIGHT
BEGIN:STANDARD
TZOFFSETFROM:+0100
TZOFFSETTO:+0000
TZNAME:GMT
DTSTART:20251026T010000
END:STANDARD
BEGIN:DAYLIGHT
TZOFFSETFROM:+0000
TZOFFSETTO:+0100
TZNAME:BST
DTSTART:20260329T010000
END:DAYLIGHT
BEGIN:STANDARD
TZOFFSETFROM:+0100
TZOFFSETTO:+0000
TZNAME:GMT
DTSTART:20261025T010000
END:STANDARD
END:VTIMEZONE
BEGIN:VEVENT
DTSTART;TZID=Europe/London:20250714T130000
DTEND;TZID=Europe/London:20250714T140000
DTSTAMP:20260419T180034
CREATED:20250629T134007Z
LAST-MODIFIED:20250702T105758Z
UID:3907-1752498000-1752501600@www.hydrogenscotland.com
SUMMARY:Grid-integrated hydrogen production to support offshore
DESCRIPTION:The UK\, particularly Scotland\, is well-positioned to lead in offshore wind energy.\n\n\n\nHowever\, the variability of wind generation often leads to mismatches with onshore energy demand. Grid-integrated hydrogen production\, both onshore and offshore\, using electrolysis offers a scalable\, flexible solution to minimise curtailment and maximise revenue. This approach supports deeper decarbonisation and enhances energy system resilience. \n\n\n\nThis webinar\, led by Jamie Paul\, Hydrogen and LNG Lead and Alicia Bahler\, Process Lead – Hydrogen at Mott MacDonald\, will explore several hydrogen production concepts\, including onshore\, offshore platform-based\, artificial island-based\, and turbine-integrated approaches. Each will be assessed for its relative merits\, with offshore production shown to be complex yet potentially competitive and impactful. \n\n\n\nThe session will also cover the benefits of large-scale hydrogen storage\, such as subsea pipelines\, salt caverns\, and depleted gas reservoirs\, and the importance of integrating energy systems across the North Sea and Europe to better align supply with demand. It will conclude by highlighting the transformative potential of a fully integrated North Sea energy system. \n\n\n\nThis analysis is based on Mott MacDonald‘s work on the North Sea Wind Power Hub (NSWPH) programme\, the HyOne Offshore Hydrogen Compression Studies\, the development of the Demo 1 offshore hydrogen production and compression design\, and their support to the Dutch Government through the Energy Infrastructure Plan North Sea (EIPN).  \n\n\n\nDiscussion papers from the NSWPH programme are available online for an insight into their work\, including ‘Offshore Energy Hubs: Blueprints with Offshore Electrolysis’ and the ‘North Sea Wind Power Hub’. \n\n\n\nKey takeaways: \n\n\n\n\nFlexibility in energy storage and transfer is essential\n\n\n\nOffshore hydrogen production can compete with onshore\n\n\n\nThe North Sea holds vast potential for wind and green hydrogen\n\n\n\n\nRegister here: https://events.teams.microsoft.com/event/d71fa7b9-ad4a-4610-9ec1-4f1adf0338e3@ac38fa5a-674b-4c32-810a-1aba0bd61a31 \n\n\n\n\n\n\n\nAbout our speakers: \n\n\n\nJamie Paul is Mott MacDonald’s Hydrogen and LNG Lead with 24 years’ experience across oil and gas and hydrogen. Since joining Mott MacDonald he has focussed on delivering hydrogen projects\, specialising in grid integrated onshore and offshore hydrogen production. His work leading the North Sea Wind Power Hub programme and the associated projects focussing on offshore and onshore hydrogen production and compression solutions gives him insight into the relative merits of different hydrogen production solutions and the challenges in integrating them with offshore wind. \n\n\n\nAlicia Bahler is a chartered chemical engineer with over 14 years’ experience in design consulting. She has worked across a range of industries including hydrogen and natural gas\, with the past four years focused on hydrogen integration projects in the North Sea – particularly large-scale green hydrogen systems. Alicia has led the process concept designs for gigawatt-scale hydrogen production facilities and explored a range of hydrogen production methods\, both onshore and offshore. Her work supports the development of flexible\, decarbonised energy systems that can unlock the full potential of offshore wind and accelerate the transition to net zero.
URL:https://www.hydrogenscotland.com/event/grid-integrated-hydrogen-production-to-support-offshore/
CATEGORIES:Member Events
ATTACH;FMTTYPE=image/png:https://www.hydrogenscotland.com/wp-content/uploads/2025/06/Event-banner-for-website-4.png
END:VEVENT
END:VCALENDAR