BEGIN:VCALENDAR
VERSION:2.0
PRODID:-//Hydrogen Scotland - ECPv6.15.20//NONSGML v1.0//EN
CALSCALE:GREGORIAN
METHOD:PUBLISH
X-WR-CALNAME:Hydrogen Scotland
X-ORIGINAL-URL:https://www.hydrogenscotland.com
X-WR-CALDESC:Events for Hydrogen Scotland
REFRESH-INTERVAL;VALUE=DURATION:PT1H
X-Robots-Tag:noindex
X-PUBLISHED-TTL:PT1H
BEGIN:VTIMEZONE
TZID:Europe/London
BEGIN:DAYLIGHT
TZOFFSETFROM:+0000
TZOFFSETTO:+0100
TZNAME:BST
DTSTART:20240331T010000
END:DAYLIGHT
BEGIN:STANDARD
TZOFFSETFROM:+0100
TZOFFSETTO:+0000
TZNAME:GMT
DTSTART:20241027T010000
END:STANDARD
BEGIN:DAYLIGHT
TZOFFSETFROM:+0000
TZOFFSETTO:+0100
TZNAME:BST
DTSTART:20250330T010000
END:DAYLIGHT
BEGIN:STANDARD
TZOFFSETFROM:+0100
TZOFFSETTO:+0000
TZNAME:GMT
DTSTART:20251026T010000
END:STANDARD
BEGIN:DAYLIGHT
TZOFFSETFROM:+0000
TZOFFSETTO:+0100
TZNAME:BST
DTSTART:20260329T010000
END:DAYLIGHT
BEGIN:STANDARD
TZOFFSETFROM:+0100
TZOFFSETTO:+0000
TZNAME:GMT
DTSTART:20261025T010000
END:STANDARD
END:VTIMEZONE
BEGIN:VEVENT
DTSTART;TZID=Europe/London:20250619T090000
DTEND;TZID=Europe/London:20250619T173000
DTSTAMP:20260422T120147
CREATED:20250530T100017Z
LAST-MODIFIED:20250530T100021Z
UID:3728-1750323600-1750354200@www.hydrogenscotland.com
SUMMARY:UCL Hydrogen Symposium
DESCRIPTION:Hydrogen Scotland member University College London (UCL) invites you to attend their UCL Hydrogen Symposium in London on Thursday 19th June for a day of insightful discussions\, engaging workshops\, and valuable networking opportunities.\n\n\n\nThis free to attend event will focus on the future of hydrogen technology and is intended for both academic and industrial hydrogen researchers. The agenda is designed to foster collaboration\, share knowledge\, and explore the latest advancements in the field. \n\n\n\nAs part of this symposium the UCL Electrochemical Innovation Lab is running three specialised workshops hosted by UCL and Scribner\, a leading developer of high-quality instrumentation and software for the electrochemical research and development (R&D) community: \n\n\n\n-Workshop 1 – Fuel Cell Testing – Explore the latest techniques and tools for evaluating fuel cell performance. \n\n\n\n-Workshop 2 – Electrolyser Testing – Gain hands-on experience with electrolyser testing and analytical methods. \n\n\n\n-Workshop 3 – X-Ray CT Facilities – Discover how X-Ray Computed Tomography (CT) can be used to characterise electrochemical systems at a detailed level. \n\n\n\nThis symposium will be an opportunity to deepen your understanding of hydrogen technology and connect with experts in the field. \n\n\n\nLearn more and register here: https://www.eventbrite.co.uk/e/ucl-hydrogen-symposium-tickets-1280551386669
URL:https://www.hydrogenscotland.com/event/ucl-hydrogen-symposium/
CATEGORIES:Other Events
ATTACH;FMTTYPE=image/png:https://www.hydrogenscotland.com/wp-content/uploads/2025/05/Event-banner-for-website-1.png
END:VEVENT
END:VCALENDAR