BEGIN:VCALENDAR
VERSION:2.0
PRODID:-//Hydrogen Scotland - ECPv6.15.20//NONSGML v1.0//EN
CALSCALE:GREGORIAN
METHOD:PUBLISH
X-WR-CALNAME:Hydrogen Scotland
X-ORIGINAL-URL:https://www.hydrogenscotland.com
X-WR-CALDESC:Events for Hydrogen Scotland
REFRESH-INTERVAL;VALUE=DURATION:PT1H
X-Robots-Tag:noindex
X-PUBLISHED-TTL:PT1H
BEGIN:VTIMEZONE
TZID:Europe/London
BEGIN:DAYLIGHT
TZOFFSETFROM:+0000
TZOFFSETTO:+0100
TZNAME:BST
DTSTART:20240331T010000
END:DAYLIGHT
BEGIN:STANDARD
TZOFFSETFROM:+0100
TZOFFSETTO:+0000
TZNAME:GMT
DTSTART:20241027T010000
END:STANDARD
BEGIN:DAYLIGHT
TZOFFSETFROM:+0000
TZOFFSETTO:+0100
TZNAME:BST
DTSTART:20250330T010000
END:DAYLIGHT
BEGIN:STANDARD
TZOFFSETFROM:+0100
TZOFFSETTO:+0000
TZNAME:GMT
DTSTART:20251026T010000
END:STANDARD
BEGIN:DAYLIGHT
TZOFFSETFROM:+0000
TZOFFSETTO:+0100
TZNAME:BST
DTSTART:20260329T010000
END:DAYLIGHT
BEGIN:STANDARD
TZOFFSETFROM:+0100
TZOFFSETTO:+0000
TZNAME:GMT
DTSTART:20261025T010000
END:STANDARD
END:VTIMEZONE
BEGIN:VEVENT
DTSTART;TZID=Europe/London:20250618T090000
DTEND;TZID=Europe/London:20250618T170000
DTSTAMP:20260422T135128
CREATED:20250523T113424Z
LAST-MODIFIED:20250603T142655Z
UID:3697-1750237200-1750266000@www.hydrogenscotland.com
SUMMARY:Hydrogen Systems: Industry-Academia Engagement Event
DESCRIPTION:Fostering discussions focused on finding solutions to key sector-led challenges on Hydrogen Systems.\n\n\n\nOrganised by the School of GeoSciences at the University of Edinburgh\, this event will feature discussions on a range of themes\, including hydrogen generation\, storage\, transport\, modelling\, markets\, and the built environment. These discussions are intentionally broad to encourage exploration of various challenges related to these topics. \n\n\n\nLunch and refreshments will be provided along with networking opportunities. \n\n\n\nLearn more and register here: Hydrogen Systems: Industry-Academia Engagement Event.
URL:https://www.hydrogenscotland.com/event/hydrogen-systems-industry-academia-engagement-event/
CATEGORIES:Other Events
ATTACH;FMTTYPE=image/png:https://www.hydrogenscotland.com/wp-content/uploads/2025/05/Event-banner-for-website-2.png
END:VEVENT
END:VCALENDAR