BEGIN:VCALENDAR
VERSION:2.0
PRODID:-//Hydrogen Scotland - ECPv6.15.20//NONSGML v1.0//EN
CALSCALE:GREGORIAN
METHOD:PUBLISH
X-ORIGINAL-URL:https://www.hydrogenscotland.com
X-WR-CALDESC:Events for Hydrogen Scotland
REFRESH-INTERVAL;VALUE=DURATION:PT1H
X-Robots-Tag:noindex
X-PUBLISHED-TTL:PT1H
BEGIN:VTIMEZONE
TZID:Europe/London
BEGIN:DAYLIGHT
TZOFFSETFROM:+0000
TZOFFSETTO:+0100
TZNAME:BST
DTSTART:20240331T010000
END:DAYLIGHT
BEGIN:STANDARD
TZOFFSETFROM:+0100
TZOFFSETTO:+0000
TZNAME:GMT
DTSTART:20241027T010000
END:STANDARD
BEGIN:DAYLIGHT
TZOFFSETFROM:+0000
TZOFFSETTO:+0100
TZNAME:BST
DTSTART:20250330T010000
END:DAYLIGHT
BEGIN:STANDARD
TZOFFSETFROM:+0100
TZOFFSETTO:+0000
TZNAME:GMT
DTSTART:20251026T010000
END:STANDARD
BEGIN:DAYLIGHT
TZOFFSETFROM:+0000
TZOFFSETTO:+0100
TZNAME:BST
DTSTART:20260329T010000
END:DAYLIGHT
BEGIN:STANDARD
TZOFFSETFROM:+0100
TZOFFSETTO:+0000
TZNAME:GMT
DTSTART:20261025T010000
END:STANDARD
END:VTIMEZONE
BEGIN:VEVENT
DTSTART;TZID=Europe/London:20250603T080000
DTEND;TZID=Europe/London:20250604T150000
DTSTAMP:20260423T131156
CREATED:20250528T133220Z
LAST-MODIFIED:20250528T133220Z
UID:3717-1748937600-1749049200@www.hydrogenscotland.com
SUMMARY:Energy Exports Conference
DESCRIPTION:Identify global energy opportunities and meet key decision-makers at the Energy Export Conference 2025.\n\n\n\nThere are vast and exciting energy project opportunities around the world. The Energy Exports Conference (EEC) will provide companies access to hundreds of contacts and enable businesses to learn about multiple new export opportunities.  \n\n\n\nListen\, engage and connect with international operators\, developers\, contractors\, government and export advisors\, ambassadors and trade experts from across the globe. \n\n\n\nKey themes of the conference will include: \n\n\n\n\nHydrogen\n\n\n\nCarbon Capture\, Utilisation\, and Storage\n\n\n\nWind\n\n\n\nNuclear\n\n\n\nSustainable Aviation Fuel\n\n\n\nDecommissioning\n\n\n\nInvestment\n\n\n\n\nLearn more and register here: https://www.the-eic.com/EEC
URL:https://www.hydrogenscotland.com/event/energy-exports-conference-2/
CATEGORIES:Other Events
ATTACH;FMTTYPE=image/png:https://www.hydrogenscotland.com/wp-content/uploads/2025/05/energy-exports-conference.png
END:VEVENT
END:VCALENDAR