BEGIN:VCALENDAR
VERSION:2.0
PRODID:-//Hydrogen Scotland - ECPv6.15.18//NONSGML v1.0//EN
CALSCALE:GREGORIAN
METHOD:PUBLISH
X-ORIGINAL-URL:https://www.hydrogenscotland.com
X-WR-CALDESC:Events for Hydrogen Scotland
REFRESH-INTERVAL;VALUE=DURATION:PT1H
X-Robots-Tag:noindex
X-PUBLISHED-TTL:PT1H
BEGIN:VTIMEZONE
TZID:Europe/London
BEGIN:DAYLIGHT
TZOFFSETFROM:+0000
TZOFFSETTO:+0100
TZNAME:BST
DTSTART:20230326T010000
END:DAYLIGHT
BEGIN:STANDARD
TZOFFSETFROM:+0100
TZOFFSETTO:+0000
TZNAME:GMT
DTSTART:20231029T010000
END:STANDARD
BEGIN:DAYLIGHT
TZOFFSETFROM:+0000
TZOFFSETTO:+0100
TZNAME:BST
DTSTART:20240331T010000
END:DAYLIGHT
BEGIN:STANDARD
TZOFFSETFROM:+0100
TZOFFSETTO:+0000
TZNAME:GMT
DTSTART:20241027T010000
END:STANDARD
BEGIN:DAYLIGHT
TZOFFSETFROM:+0000
TZOFFSETTO:+0100
TZNAME:BST
DTSTART:20250330T010000
END:DAYLIGHT
BEGIN:STANDARD
TZOFFSETFROM:+0100
TZOFFSETTO:+0000
TZNAME:GMT
DTSTART:20251026T010000
END:STANDARD
END:VTIMEZONE
BEGIN:VEVENT
DTSTART;TZID=Europe/London:20240916T130000
DTEND;TZID=Europe/London:20240916T140000
DTSTAMP:20260421T183637
CREATED:20240816T102945Z
LAST-MODIFIED:20240904T203907Z
UID:2556-1726491600-1726495200@www.hydrogenscotland.com
SUMMARY:SGN LTS Futures Project
DESCRIPTION:This Hydrogen Scotland member webinar on Monday\, September 9th\, is about the strategic LTS Futures project. Nancy Thomson of SGN will speak about the £30M Ofgem-funded LTS Futures project\, which is supported by the Scottish and UK governments to recommission the mothballed 30-kilometre local gas transmission pipeline that runs from Grangemouth to Granton in Edinburgh.\n\n\n\nLTS Futures is conducting a series of trials with hydrogen to prove the viability of repurposing existing local gas infrastructure for hydrogen use.The LTS Futures Project forms part of the UK’s national hydrogen research programme to deliver a Net Zero decarbonisation solution for customers. The project seeks to research\, develop\, test and evidence the compatibility of the Local Transmission System Assets (LTS) assets\, pipelines\, associated plant and ancillary fittings\, culminating in a ‘first of a kind’ repurposing trial and demonstration. \n\n\n\nNancy Thomson of SGN has over 16 years of experience in high-pressure onshore and offshore pipelines around the world\, including an MSc in Pipeline Integrity Management. For the last four years\, she has been leading the LTS Futures programme\, which is investigating repurposing and uprating the GB high-pressure gas networks to hydrogen. \n\n\n\nThe aim of the LTS Futures project is to demonstrate that the Local Transmission System can be repurposed and potentially uprated to convey hydrogen. This would provide options for the decarbonisation of power\, industry\, heat\, and transport by delivering a safe supply of energy to all customers both during and after the energy transition. \n\n\n\nThe current estimate is if the Local Transmission System is converted to transfer hydrogen then the cost of repurposing this LTS network will be between 15% and 30% of the costs of replacement\, significantly reducing the costs of decarbonisation through the hydrogen pathway. The live trial between Grangemouth and Granton will give a much greater understanding of the actual cost and potential for repurposing and uprating the network and\, in doing so\, inform the whole system transformation costs. \n\n\n\nRegister here: https://events.teams.microsoft.com/event/88247ab9-5707-44bf-896e-40ba61b94572@ac38fa5a-674b-4c32-810a-1aba0bd61a31
URL:https://www.hydrogenscotland.com/event/sgn-lts-futures-project/
CATEGORIES:Member Events
ATTACH;FMTTYPE=image/png:https://www.hydrogenscotland.com/wp-content/uploads/2024/08/event-for-site1-3-e1724676093311.png
END:VEVENT
END:VCALENDAR