BEGIN:VCALENDAR
VERSION:2.0
PRODID:-//Hydrogen Scotland - ECPv6.15.18//NONSGML v1.0//EN
CALSCALE:GREGORIAN
METHOD:PUBLISH
X-WR-CALNAME:Hydrogen Scotland
X-ORIGINAL-URL:https://www.hydrogenscotland.com
X-WR-CALDESC:Events for Hydrogen Scotland
REFRESH-INTERVAL;VALUE=DURATION:PT1H
X-Robots-Tag:noindex
X-PUBLISHED-TTL:PT1H
BEGIN:VTIMEZONE
TZID:Europe/London
BEGIN:DAYLIGHT
TZOFFSETFROM:+0000
TZOFFSETTO:+0100
TZNAME:BST
DTSTART:20230326T010000
END:DAYLIGHT
BEGIN:STANDARD
TZOFFSETFROM:+0100
TZOFFSETTO:+0000
TZNAME:GMT
DTSTART:20231029T010000
END:STANDARD
BEGIN:DAYLIGHT
TZOFFSETFROM:+0000
TZOFFSETTO:+0100
TZNAME:BST
DTSTART:20240331T010000
END:DAYLIGHT
BEGIN:STANDARD
TZOFFSETFROM:+0100
TZOFFSETTO:+0000
TZNAME:GMT
DTSTART:20241027T010000
END:STANDARD
BEGIN:DAYLIGHT
TZOFFSETFROM:+0000
TZOFFSETTO:+0100
TZNAME:BST
DTSTART:20250330T010000
END:DAYLIGHT
BEGIN:STANDARD
TZOFFSETFROM:+0100
TZOFFSETTO:+0000
TZNAME:GMT
DTSTART:20251026T010000
END:STANDARD
END:VTIMEZONE
BEGIN:VEVENT
DTSTART;TZID=Europe/London:20240828T090000
DTEND;TZID=Europe/London:20240828T160000
DTSTAMP:20260421T145216
CREATED:20240704T115524Z
LAST-MODIFIED:20240704T115700Z
UID:2134-1724835600-1724860800@www.hydrogenscotland.com
SUMMARY:Hydrogen Masterclass: Supporting Scotland's Energy Future
DESCRIPTION:The first event of ETZ Ltd’s Energy Transition ‘Hydrogen’ Masterclass series will examine Scotland’s Hydrogen future and is run in partnership with Hydrogen Scotland and EIC (Energy Industries Council).\n\n\n\nThe Hydrogen Masterclass is designed to educate and empower supply chain companies by offering insights into the potential of hydrogen as an energy source and the business opportunities it can unlock. Can hydrogen be the solution for achieving a balanced energy system in Scotland? One that provides secure\, affordable\, and low-carbon energy while maximizing Scotland’s abundant natural resources? \n\n\n\nHydrogen has the potential to revolutionize various sectors\, from transportation to industrial processes. It offers a viable solution to decarbonize our energy systems as we continue to combat carbon emissions and climate change. \n\n\n\nScotland has a significant advantage in being able to utilize its well-established oil and gas supply chain. With extensive experience and expertise in the industry\, Scotland has the opportunity to encourage collaboration\, drive innovation\, and effectively harness its renewable energy potential. The strength of this energy supply chain enables Scotland to efficiently provide equipment\, materials\, and services\, leading to cost-effective and timely project delivery\, and solidifying Scotland’s position as a global leader in hydrogen production and usage. \n\n\n\nJoin the event to gain valuable insights into the latest advancements\, projects\, and solutions shaping hydrogen’s role in Scotland’s energy landscape. Learn how your company can get involved. \n\n\n\nRegister here: https://www.the-eic.com/EventDetail?dateid=4282
URL:https://www.hydrogenscotland.com/event/hydrogen-masterclass-supporting-scotland-energy-future/
CATEGORIES:Member Events,Other Events
ATTACH;FMTTYPE=image/jpeg:https://www.hydrogenscotland.com/wp-content/uploads/2024/07/Hydrogen-Transition-Zone-Masterclass.jpeg
END:VEVENT
END:VCALENDAR